BEGIN:VCALENDAR
VERSION:2.0
PRODID:spatie/icalendar-generator
DESCRIPTION:Events from Nations College
X-WR-CALDESC:Events from Nations College
REFRESH-INTERVAL;VALUE=DURATION:PT1440M
X-PUBLISHED-TTL:PT1440M
BEGIN:VTIMEZONE
TZID:Etc/GMT+0
BEGIN:STANDARD
DTSTART:20240308T090000Z
TZOFFSETFROM:+0000
TZOFFSETTO:+0000
END:STANDARD
END:VTIMEZONE
BEGIN:VTIMEZONE
TZID:UTC
BEGIN:STANDARD
DTSTART:20250724T115403Z
TZOFFSETFROM:+0000
TZOFFSETTO:+0000
END:STANDARD
END:VTIMEZONE
BEGIN:VEVENT
UID:115-48
DTSTAMP:20260420T115403Z
SUMMARY:Exam Week
LOCATION:
ORGANIZER;CN=Cari Diez:MAILTO:cdiez@cfan.org
DTSTART;TZID=Etc/GMT+0:20241203T090000
DTEND;TZID=Etc/GMT+0:20241206T170000
X-ALT-DESC;FMTTYPE=TEXT/HTML:<p>Exam Week</p>\n
CATEGORIES:Academic Calendar
URL;VALUE=URI:https://nationscollege.org/mc-events/exam-week-3/
METHOD:PUBLISH
END:VEVENT
END:VCALENDAR