BEGIN:VCALENDAR
VERSION:2.0
PRODID:spatie/icalendar-generator
DESCRIPTION:Events from Nations College
X-WR-CALDESC:Events from Nations College
REFRESH-INTERVAL;VALUE=DURATION:PT1440M
X-PUBLISHED-TTL:PT1440M
BEGIN:VTIMEZONE
TZID:Etc/GMT+0
BEGIN:STANDARD
DTSTART:20240221T090000Z
TZOFFSETFROM:+0000
TZOFFSETTO:+0000
END:STANDARD
END:VTIMEZONE
BEGIN:VTIMEZONE
TZID:UTC
BEGIN:STANDARD
DTSTART:20250724T200050Z
TZOFFSETFROM:+0000
TZOFFSETTO:+0000
END:STANDARD
END:VTIMEZONE
BEGIN:VEVENT
UID:106-47
DTSTAMP:20260420T200050Z
SUMMARY:Student Ministries End
LOCATION:
ORGANIZER;CN=Cari Diez:MAILTO:cdiez@cfan.org
DTSTART;TZID=Etc/GMT+0:20241117T090000
DTEND;TZID=Etc/GMT+0:20241117T170000
X-ALT-DESC;FMTTYPE=TEXT/HTML:<p>Student Ministries End</p>\n
CATEGORIES:Academic Calendar
URL;VALUE=URI:https://nationscollege.org/mc-events/student-ministries-end/
METHOD:PUBLISH
END:VEVENT
END:VCALENDAR