BEGIN:VCALENDAR
VERSION:2.0
PRODID:spatie/icalendar-generator
DESCRIPTION:Events from Nations College
X-WR-CALDESC:Events from Nations College
REFRESH-INTERVAL;VALUE=DURATION:PT1440M
X-PUBLISHED-TTL:PT1440M
BEGIN:VTIMEZONE
TZID:Etc/GMT+0
BEGIN:STANDARD
DTSTART:20240228T090000Z
TZOFFSETFROM:+0000
TZOFFSETTO:+0000
END:STANDARD
END:VTIMEZONE
BEGIN:VTIMEZONE
TZID:UTC
BEGIN:STANDARD
DTSTART:20250724T145901Z
TZOFFSETFROM:+0000
TZOFFSETTO:+0000
END:STANDARD
END:VTIMEZONE
BEGIN:VEVENT
UID:107-46
DTSTAMP:20260420T145901Z
SUMMARY:Thanksgiving Break
LOCATION:
ORGANIZER;CN=Cari Diez:MAILTO:cdiez@cfan.org
DTSTART;TZID=Etc/GMT+0:20241124T090000
DTEND;TZID=Etc/GMT+0:20241130T170000
X-ALT-DESC;FMTTYPE=TEXT/HTML:Thanksgiving Break November 24th to 30th
CATEGORIES:Academic Calendar
URL;VALUE=URI:https://nationscollege.org/mc-events/thanksgiving-break-2/
METHOD:PUBLISH
END:VEVENT
END:VCALENDAR