BEGIN:VCALENDAR
VERSION:2.0
PRODID:spatie/icalendar-generator
DESCRIPTION:Events from Nations College
X-WR-CALDESC:Events from Nations College
REFRESH-INTERVAL;VALUE=DURATION:PT1440M
X-PUBLISHED-TTL:PT1440M
BEGIN:VTIMEZONE
TZID:Etc/GMT+0
BEGIN:STANDARD
DTSTART:20240225T090000Z
TZOFFSETFROM:+0000
TZOFFSETTO:+0000
END:STANDARD
END:VTIMEZONE
BEGIN:VTIMEZONE
TZID:UTC
BEGIN:STANDARD
DTSTART:20250724T163646Z
TZOFFSETFROM:+0000
TZOFFSETTO:+0000
END:STANDARD
END:VTIMEZONE
BEGIN:VEVENT
UID:110-74
DTSTAMP:20260420T163646Z
SUMMARY:Last Day of Classes for Fall Term
LOCATION:
ORGANIZER;CN=Cari Diez:MAILTO:cdiez@cfan.org
DTSTART;TZID=Etc/GMT+0:20241121T090000
DTEND;TZID=Etc/GMT+0:20241121T155000
X-ALT-DESC;FMTTYPE=TEXT/HTML:
CATEGORIES:Academic Calendar
URL;VALUE=URI:https://nationscollege.org/mc-events/last-day-of-classes-for-
 fall-term/
METHOD:PUBLISH
END:VEVENT
END:VCALENDAR